BEGIN:VCALENDAR
VERSION:2.0
PRODID:-//Briefmarkensammlerverein 1904 Amberg e.V. - ECPv6.15.20//NONSGML v1.0//EN
CALSCALE:GREGORIAN
METHOD:PUBLISH
X-WR-CALNAME:Briefmarkensammlerverein 1904 Amberg e.V.
X-ORIGINAL-URL:https://www.briefmarkenfreunde-amberg.de
X-WR-CALDESC:Veranstaltungen für Briefmarkensammlerverein 1904 Amberg e.V.
REFRESH-INTERVAL;VALUE=DURATION:PT1H
X-Robots-Tag:noindex
X-PUBLISHED-TTL:PT1H
BEGIN:VTIMEZONE
TZID:Europe/Berlin
BEGIN:DAYLIGHT
TZOFFSETFROM:+0100
TZOFFSETTO:+0200
TZNAME:CEST
DTSTART:20250330T010000
END:DAYLIGHT
BEGIN:STANDARD
TZOFFSETFROM:+0200
TZOFFSETTO:+0100
TZNAME:CET
DTSTART:20251026T010000
END:STANDARD
BEGIN:DAYLIGHT
TZOFFSETFROM:+0100
TZOFFSETTO:+0200
TZNAME:CEST
DTSTART:20260329T010000
END:DAYLIGHT
BEGIN:STANDARD
TZOFFSETFROM:+0200
TZOFFSETTO:+0100
TZNAME:CET
DTSTART:20261025T010000
END:STANDARD
BEGIN:DAYLIGHT
TZOFFSETFROM:+0100
TZOFFSETTO:+0200
TZNAME:CEST
DTSTART:20270328T010000
END:DAYLIGHT
BEGIN:STANDARD
TZOFFSETFROM:+0200
TZOFFSETTO:+0100
TZNAME:CET
DTSTART:20271031T010000
END:STANDARD
END:VTIMEZONE
BEGIN:VEVENT
DTSTART;TZID=Europe/Berlin:20260703T200000
DTEND;TZID=Europe/Berlin:20260703T213000
DTSTAMP:20260420T170555
CREATED:20260131T204010Z
LAST-MODIFIED:20260131T204010Z
UID:539-1783108800-1783114200@www.briefmarkenfreunde-amberg.de
SUMMARY:Monatsversammlung
DESCRIPTION:Unsere Monatsversammlung ist der zentrale Treffpunkt für alle Mitglieder und interessierten Gäste. In geselliger Runde sprechen wir über aktuelle Vereinsaktivitäten\, tauschen Neuigkeiten aus der Welt der Philatelie aus und werfen gemeinsam einen Blick auf besondere Sammlerstücke. Dazu gibt es kurze Fachvorträge\, hilfreiche Tipps und natürlich viel Raum für Gespräche unter Gleichgesinnten. Alle sind herzlich willkommen\, der Freude an Briefmarken und am Vereinsleben hat.
URL:https://www.briefmarkenfreunde-amberg.de/event/monatsversammlung-7/
LOCATION:Zum Kummert Bräu\, Raigeringer Str. 11\, Amberg\, Bayern\, 92224\, Germany
CATEGORIES:Versammlung
END:VEVENT
END:VCALENDAR